BEGIN:VCALENDAR
VERSION:2.0
PRODID:-//Les Enfants de la Dordogne - gymnastique BOULAZAC - ECPv5.3.0//NONSGML v1.0//EN
CALSCALE:GREGORIAN
METHOD:PUBLISH
X-WR-CALNAME:Les Enfants de la Dordogne - gymnastique BOULAZAC
X-ORIGINAL-URL:https://edboulazacgym.fr
X-WR-CALDESC:évènements pour Les Enfants de la Dordogne - gymnastique BOULAZAC
BEGIN:VTIMEZONE
TZID:Europe/Paris
BEGIN:DAYLIGHT
TZOFFSETFROM:+0100
TZOFFSETTO:+0200
TZNAME:CEST
DTSTART:20170326T010000
END:DAYLIGHT
BEGIN:STANDARD
TZOFFSETFROM:+0200
TZOFFSETTO:+0100
TZNAME:CET
DTSTART:20171029T010000
END:STANDARD
END:VTIMEZONE
BEGIN:VEVENT
DTSTART;TZID=Europe/Paris:20170909T080000
DTEND;TZID=Europe/Paris:20170910T180000
DTSTAMP:20260422T111336
CREATED:20170811T145539Z
LAST-MODIFIED:20170813T165655Z
UID:566-1504944000-1505066400@edboulazacgym.fr
SUMMARY:Vital Sport Décathlon Boulazac
DESCRIPTION:Le club des Enfants de la Dordogne\, comme chaque année\, sera présent au Vital Sport de Boulazac le 9 et 10 Septembre. \nC’est l’occasion pour vous de découvrir les activités proposées par le club et assister à des démonstrations ! \n\n\n	Similaire
URL:https://edboulazacgym.fr/event/vital-sport-decathlon-boulazac/
LOCATION:Vital Sport Boulazac\, ZAC du Ponteix\, BOULAZAC ISLE MANOIRE\, 24750\, France
END:VEVENT
END:VCALENDAR